BEGIN:VCALENDAR
PRODID:-//kirchenweb.ch gmbh//veranstaltungsausgabe v2.0//DE
VERSION:2.0
METHOD:PUBLISH
BEGIN:VEVENT
DTSTART:20230324T190000Z
DTEND:20230324T200000Z
LOCATION:Ref. Kirche Büren a.A.\, Hauptgasse 63\, 3294 Büren an der Aare
TRANSP:OPAQUE
SEQUENCE:0
UID:59835-veranstaltung@kirchenregion-aarberg.ch
DTSTAMP:20230321T072643Z
DESCRIPTION:Kontakt: Sally Jo Rüedi\, Organistin / Musikkoordination
  Musica in Ecclesia\, Tel. 079 288 72 69\n\nWeitere Infos:
  https://www.kirchenregion-aarberg.ch/veranstaltung/59835
SUMMARY:Musica in Ecclesia - "Jütz"
PRIORITY:5
X-MICROSOFT-CDO-IMPORTANCE:1
CLASS:PUBLIC
END:VEVENT
END:VCALENDAR
