BEGIN:VCALENDAR
PRODID:-//kirchenweb.ch gmbh//veranstaltungsausgabe v2.0//DE
VERSION:2.0
METHOD:PUBLISH
BEGIN:VEVENT
DTSTART:20230324T170000Z
DTEND:20230324T183000Z
LOCATION:Kirchgemeindehaus Büren a.A.\, Bernstrasse 7a\, 3294 Büren an
  der Aare
TRANSP:OPAQUE
SEQUENCE:0
UID:61785-veranstaltung@kirchenregion-aarberg.ch
DTSTAMP:20230117T093646Z
DESCRIPTION:Kontakt: Andrea Schaller\, Tel. 032 351 35 60\n\nWeitere
  Infos: https://www.kirchenregion-aarberg.ch/veranstaltung/61785
SUMMARY:MERCI Apéro
PRIORITY:5
X-MICROSOFT-CDO-IMPORTANCE:1
CLASS:PUBLIC
END:VEVENT
END:VCALENDAR
