BEGIN:VCALENDAR
PRODID:-//kirchenweb.ch gmbh//veranstaltungsausgabe v2.0//DE
VERSION:2.0
METHOD:PUBLISH
BEGIN:VEVENT
DTSTART:20230820T073000Z
DTEND:20230820T090000Z
LOCATION:Pfarrgarten\, Bernstrasse 7\, 3294 Büren an der Aare
TRANSP:OPAQUE
SEQUENCE:0
UID:62794-veranstaltung@kirchenregion-aarberg.ch
DTSTAMP:20230703T134722Z
DESCRIPTION:Kontakt: Silvia Geywitz\, Pfarrerin\n\nWeitere Infos:
  https://www.kirchenregion-aarberg.ch/veranstaltung/62794
SUMMARY:Tauffeier im Pfarrgarten
PRIORITY:5
X-MICROSOFT-CDO-IMPORTANCE:1
CLASS:PUBLIC
END:VEVENT
END:VCALENDAR
