BEGIN:VCALENDAR
PRODID:-//kirchenweb.ch gmbh//veranstaltungsausgabe v2.0//DE
VERSION:2.0
METHOD:PUBLISH
BEGIN:VEVENT
DTSTART:20230827T073000Z
DTEND:20230827T083000Z
LOCATION:Kath. Pfarreizentrum Büren a.A.\, Solothurnstrasse 40\, 3294
  Büren an der Aare
TRANSP:OPAQUE
SEQUENCE:0
UID:62795-veranstaltung@kirchenregion-aarberg.ch
DTSTAMP:20221025T082638Z
DESCRIPTION:Kontakt: Pfrn. Petra Burri\, Tel. 032 351 35 62\n\nWeitere
  Infos: https://www.kirchenregion-aarberg.ch/veranstaltung/62795
SUMMARY:Triökumenischer Gottesdienst
PRIORITY:5
X-MICROSOFT-CDO-IMPORTANCE:1
CLASS:PUBLIC
END:VEVENT
END:VCALENDAR
