BEGIN:VCALENDAR
PRODID:-//kirchenweb.ch gmbh//veranstaltungsausgabe v2.0//DE
VERSION:2.0
METHOD:PUBLISH
BEGIN:VEVENT
DTSTART:20230824T173000Z
DTEND:20230824T193000Z
LOCATION:Kirchgemeindehaus\, Bernstrasse 7a\, 3294 Büren an der Aare
TRANSP:OPAQUE
SEQUENCE:0
UID:62982-veranstaltung@kirchenregion-aarberg.ch
DTSTAMP:20230105T132948Z
DESCRIPTION:Der ökumenische Kirchenchor probt wöchentlich und alle
  Interessierten sind herzlich eingeladen auch dabei zu sein. Wir freuen
  uns auf neue Sänger und Sängerinnen!\n\nKontakt: Barbara Clénin\nT.
  032 385 33 53\n\n\nWeitere Infos:
  https://www.kirchenregion-aarberg.ch/veranstaltung/62982
SUMMARY:Probe des ökumenischen Kirchenchors "SingIn Büren"
PRIORITY:5
X-MICROSOFT-CDO-IMPORTANCE:1
CLASS:PUBLIC
END:VEVENT
END:VCALENDAR
