BEGIN:VCALENDAR
PRODID:-//kirchenweb.ch gmbh//veranstaltungsausgabe v2.0//DE
VERSION:2.0
METHOD:PUBLISH
BEGIN:VEVENT
DTSTART:20230824T101500Z
DTEND:20230824T113000Z
LOCATION:Kirchgemeindehaus\, Bernstrasse 7a\, 3294 Büren an der Aare
TRANSP:OPAQUE
SEQUENCE:0
UID:64879-veranstaltung@kirchenregion-aarberg.ch
DTSTAMP:20230123T174744Z
DESCRIPTION:Anmeldungen jeweils bis Dienstagabend an Christine Stähli.
 \nErwachsene: Chf 10.00\, Kinder Chf 6.00.\n\nWir freuen uns auf viele
  Gäste!\nHerzlich\, das Kochteam.\n\nKontakt: Christine Stähli\n032 351
  30 71 oder 079 648 96 92\n\nWeitere Infos:
  https://www.kirchenregion-aarberg.ch/veranstaltung/64879
SUMMARY:Mittagstisch
PRIORITY:5
X-MICROSOFT-CDO-IMPORTANCE:1
CLASS:PUBLIC
END:VEVENT
END:VCALENDAR
