BEGIN:VCALENDAR
PRODID:-//kirchenweb.ch gmbh//veranstaltungsausgabe v2.0//DE
VERSION:2.0
METHOD:PUBLISH
BEGIN:VEVENT
DTSTART:20230824T080000Z
DTEND:20230824T090000Z
LOCATION:Altersheim Büren a.A.\, Lindenweg 15\, 3294 Büren an der Aare
TRANSP:OPAQUE
SEQUENCE:0
UID:65519-veranstaltung@kirchenregion-aarberg.ch
DTSTAMP:20230621T180618Z
DESCRIPTION:Kontakt: Pfarreiseelsorger Jerko Bozic\, Kath. Pfarrei St.
  Katharina Büren a.A.\, T. 032 387 24 14\n\nWeitere Infos:
  https://www.kirchenregion-aarberg.ch/veranstaltung/65519
SUMMARY:Öffentlicher Gottesdienst in der AareResidenz/Altersheim
PRIORITY:5
X-MICROSOFT-CDO-IMPORTANCE:1
CLASS:PUBLIC
END:VEVENT
END:VCALENDAR
