BEGIN:VCALENDAR
PRODID:-//kirchenweb.ch gmbh//veranstaltungsausgabe v2.0//DE
VERSION:2.0
METHOD:PUBLISH
BEGIN:VEVENT
DTSTART:20230326T073000Z
DTEND:20230326T083000Z
LOCATION:Reformierte Kirche\, Hauptgasse 63\, 3294 Büren an der Aare
TRANSP:OPAQUE
SEQUENCE:0
UID:67979-veranstaltung@kirchenregion-aarberg.ch
DTSTAMP:20230418T144013Z
DESCRIPTION:Kontakt: team.bueren@kirche-bueren.ch\n\nWeitere Infos:
  https://www.kirchenregion-aarberg.ch/veranstaltung/67979
SUMMARY:KEIN Gottesdienst - Gerne verweisen wir Sie auf die Angebote
  unserer Nachbarkirchgemeinden sowie des katholischen Pfarreizentrums in
  Büren.
PRIORITY:5
X-MICROSOFT-CDO-IMPORTANCE:1
CLASS:PUBLIC
END:VEVENT
END:VCALENDAR
