BEGIN:VCALENDAR
PRODID:-//kirchenweb.ch gmbh//veranstaltungsausgabe v2.0//DE
VERSION:2.0
METHOD:PUBLISH
BEGIN:VEVENT
DTSTART:20230820T070000Z
DTEND:20230820T080000Z
LOCATION:Waldhaus Büetigen\, \,
TRANSP:OPAQUE
SEQUENCE:0
UID:68732-veranstaltung@kirchenregion-aarberg.ch
DTSTAMP:20230613T122431Z
DESCRIPTION:Kontakt: Pfarrerin Debora Meier\n\nWeitere Infos:
  https://www.kirchenregion-aarberg.ch/veranstaltung/68732
SUMMARY:Fahrt zum Sonntag (Kirchliches Zentrum Busswil\, 8.15 Uhr)
PRIORITY:5
X-MICROSOFT-CDO-IMPORTANCE:1
CLASS:PUBLIC
END:VEVENT
END:VCALENDAR
