BEGIN:VCALENDAR
PRODID:-//kirchenweb.ch gmbh//veranstaltungsausgabe v2.0//DE
VERSION:2.0
METHOD:PUBLISH
BEGIN:VEVENT
DTSTART:20230817T133000Z
DTEND:20230817T150000Z
LOCATION:Kirchgemeindehaus\, Bernstrasse 7a\, 3294 Büren an der Aare
TRANSP:OPAQUE
SEQUENCE:0
UID:68842-veranstaltung@kirchenregion-aarberg.ch
DTSTAMP:20230620T074628Z
DESCRIPTION:Kontakt: Karin Wälchli\, Katechetin\, Handy 076 389 47 36\n
 \nWeitere Infos: https://www.kirchenregion-aarberg.ch/veranstaltung/68842
SUMMARY:KUW 3a Unterricht
PRIORITY:5
X-MICROSOFT-CDO-IMPORTANCE:1
CLASS:PUBLIC
END:VEVENT
END:VCALENDAR
