BEGIN:VCALENDAR
PRODID:-//kirchenweb.ch gmbh//veranstaltungsausgabe v2.0//DE
VERSION:2.0
METHOD:PUBLISH
BEGIN:VEVENT
DTSTART:20230821T133000Z
DTEND:20230821T150000Z
LOCATION:Kirchgemeindehaus\, Bernstrasse 7a\, 3294 Büren an der Aare
TRANSP:OPAQUE
SEQUENCE:0
UID:68844-veranstaltung@kirchenregion-aarberg.ch
DTSTAMP:20230620T075000Z
DESCRIPTION:Kontakt: Karin Wälchli\, Katechetin\, Handy 076 389 47 36\n
 \nWeitere Infos: https://www.kirchenregion-aarberg.ch/veranstaltung/68844
SUMMARY:KUW 3b Unterricht
PRIORITY:5
X-MICROSOFT-CDO-IMPORTANCE:1
CLASS:PUBLIC
END:VEVENT
END:VCALENDAR
