BEGIN:VCALENDAR
PRODID:-//kirchenweb.ch gmbh//veranstaltungsausgabe v2.0//DE
VERSION:2.0
METHOD:PUBLISH
BEGIN:VEVENT
DTSTART:20230829T173000Z
DTEND:20230829T193000Z
LOCATION:Kirchgemeindehaus Büren a.A.\, Bernstrasse 7a\, 3294 Büren an
  der Aare
TRANSP:OPAQUE
SEQUENCE:0
UID:69096-veranstaltung@kirchenregion-aarberg.ch
DTSTAMP:20230628T114923Z
DESCRIPTION:Kontakt: team.bueren@kirche-bueren.ch\n\nWeitere Infos:
  https://www.kirchenregion-aarberg.ch/veranstaltung/69096
SUMMARY:The Chosen
PRIORITY:5
X-MICROSOFT-CDO-IMPORTANCE:1
CLASS:PUBLIC
END:VEVENT
END:VCALENDAR
