BEGIN:VCALENDAR
PRODID:-//kirchenweb.ch gmbh//veranstaltungsausgabe v2.0//DE
VERSION:2.0
METHOD:PUBLISH
BEGIN:VEVENT
DTSTART:20230828T060000Z
DTEND:20230828T100000Z
LOCATION:Kirchgemeindehaus Büren a.A.\, Bernstrasse 7a\, 3294 Büren an
  der Aare
TRANSP:OPAQUE
SEQUENCE:0
UID:69706-veranstaltung@kirchenregion-aarberg.ch
DTSTAMP:20230706T070740Z
DESCRIPTION:Für detaillierte Informationen: 
 \nhttps://www.mvb-be.ch/de/beratung/treffpunkt/lyss\n\nKontakt: Cornelia
  Bandi\, Mütter- und Väterberaterin\, T. 031 552 16 16\n\nWeitere Infos:
  https://www.kirchenregion-aarberg.ch/veranstaltung/69706
SUMMARY:Mütter- und Väterberatung
PRIORITY:5
X-MICROSOFT-CDO-IMPORTANCE:1
CLASS:PUBLIC
END:VEVENT
END:VCALENDAR
