BEGIN:VCALENDAR
PRODID:-//kirchenweb.ch gmbh//veranstaltungsausgabe v2.0//DE
VERSION:2.0
METHOD:PUBLISH
BEGIN:VEVENT
DTSTART:20230823T070000Z
DTEND:20230823T100000Z
LOCATION:Kirchgemeindehaus Büren a.A.\, Bernstrasse 7a\, 3294 Büren an
  der Aare
TRANSP:OPAQUE
SEQUENCE:0
UID:70986-veranstaltung@kirchenregion-aarberg.ch
DTSTAMP:20230829T115404Z
DESCRIPTION:Asylsuchende erhalten mit diesem Kurs die Möglichkeit\,
  Deutsch zu lernen und sich besser zu verständigen.\n\n\nWeitere
  Freiwillige gesucht\, die gerne Unterricht erteilen möchten!\nMelden Sie
  sich bitte bei der angegebenen Kontaktperson.\n\n\n\nKontakt: Fabienne
  Ziegler\, Tel. 032 544 20 60\n\nWeitere Infos:
  https://www.kirchenregion-aarberg.ch/veranstaltung/70986
SUMMARY:Deutschkurs  für Asylsuchende
PRIORITY:5
X-MICROSOFT-CDO-IMPORTANCE:1
CLASS:PUBLIC
END:VEVENT
END:VCALENDAR
