BEGIN:VCALENDAR
PRODID:-//kirchenweb.ch gmbh//veranstaltungsausgabe v2.0//DE
VERSION:2.0
METHOD:PUBLISH
BEGIN:VEVENT
DTSTART:20260510T150000Z
DTEND:20260510T160000Z
LOCATION:Ref. Kirche Büren a.A.\, Hauptgasse 63\, 3294 Büren an der Aare
TRANSP:OPAQUE
SEQUENCE:0
UID:83514-veranstaltung@kirchenregion-aarberg.ch
DTSTAMP:20260421T122230Z
DESCRIPTION:Ökumenischer Kirchenchor "SingIn Büren"\, Leitung: Barbara
  Clénin\n\nEine klingende Schweizer-Reise zum Muttertag!\nDer
  Ökumenische Kirchenchor «SingIn Büren» und zahlreiche
  GastsängerInnen treten mit einem vielfältigen Strauss an altvertrauten
  und neuen Liedern auf.\nHeitere\, fröhliche\, aber auch wehmütige und
  andächtige Volkslieder aus allen Teilen und Sprachen der Schweiz stehen
  auf dem Programm.  \n\n\nKontakt: Sally Jo Rüedi\, Organistin /
  Musikkoordination Musica in Ecclesia\, T. 079 288 72 69\n\nWeitere Infos:
  https://www.kirchenregion-aarberg.ch/veranstaltung/83514
SUMMARY:Musica in Ecclesia: Konzert mit SingIn Büren
PRIORITY:5
X-MICROSOFT-CDO-IMPORTANCE:1
CLASS:PUBLIC
END:VEVENT
END:VCALENDAR
