BEGIN:VCALENDAR
PRODID:-//kirchenweb.ch gmbh//veranstaltungsausgabe v2.0//DE
VERSION:2.0
METHOD:PUBLISH
BEGIN:VEVENT
DTSTART:20260830T170000Z
DTEND:20260830T180000Z
LOCATION:Ref. Kirche Pieterlen\, Kirchgasse 17\, 2542 Pieterlen
TRANSP:OPAQUE
SEQUENCE:0
UID:84757-veranstaltung@kirchenregion-aarberg.ch
DTSTAMP:20251104T092452Z
DESCRIPTION:Kontakt: team.bueren@kirche-bueren.ch\n\nWeitere Infos:
  https://www.kirchenregion-aarberg.ch/veranstaltung/84757
SUMMARY:Regionale\, ökumenische Taizé-Feier
PRIORITY:5
X-MICROSOFT-CDO-IMPORTANCE:1
CLASS:PUBLIC
END:VEVENT
END:VCALENDAR
