BEGIN:VCALENDAR
PRODID:-//kirchenweb.ch gmbh//veranstaltungsausgabe v2.0//DE
VERSION:2.0
METHOD:PUBLISH
BEGIN:VEVENT
DTSTART:20260920T073000Z
DTEND:20260920T083000Z
LOCATION:Reformierte Kirche\, Hauptgasse 63\, 3294 Büren an der Aare
TRANSP:OPAQUE
SEQUENCE:0
UID:84758-veranstaltung@kirchenregion-aarberg.ch
DTSTAMP:20260127T143503Z
DESCRIPTION:Kontakt: Pfrn. Petra Burri\, T. 032 351 35 62\n\nWeitere
  Infos: https://www.kirchenregion-aarberg.ch/veranstaltung/84758
SUMMARY:Gottesdienst zum Eidg. Dank- Buss und Bettag
PRIORITY:5
X-MICROSOFT-CDO-IMPORTANCE:1
CLASS:PUBLIC
END:VEVENT
END:VCALENDAR
