BEGIN:VCALENDAR
PRODID:-//kirchenweb.ch gmbh//veranstaltungsausgabe v2.0//DE
VERSION:2.0
METHOD:PUBLISH
BEGIN:VEVENT
DTSTART:20260927T170000Z
DTEND:20260927T180000Z
LOCATION:Kirchliches Zentrum Busswil\, Lindenweg 19\, 3292 Busswil
TRANSP:OPAQUE
SEQUENCE:0
UID:84759-veranstaltung@kirchenregion-aarberg.ch
DTSTAMP:20251104T092515Z
DESCRIPTION:Kontakt: team.bueren@kirche-bueren.ch\n\nWeitere Infos:
  https://www.kirchenregion-aarberg.ch/veranstaltung/84759
SUMMARY:Regionale\, ökumenische Taizé-Feier
PRIORITY:5
X-MICROSOFT-CDO-IMPORTANCE:1
CLASS:PUBLIC
END:VEVENT
END:VCALENDAR
