BEGIN:VCALENDAR
PRODID:-//kirchenweb.ch gmbh//veranstaltungsausgabe v2.0//DE
VERSION:2.0
METHOD:PUBLISH
BEGIN:VEVENT
DTSTART:20261231T160000Z
DTEND:20261231T170000Z
LOCATION:Reformierte Kirche\, Hauptgasse 63\, 3294 Büren an der Aare
TRANSP:OPAQUE
SEQUENCE:0
UID:84760-veranstaltung@kirchenregion-aarberg.ch
DTSTAMP:20260127T151757Z
DESCRIPTION:Kontakt: Pfrn. Petra Burri\, T. 032 351 35 62\n\nWeitere
  Infos: https://www.kirchenregion-aarberg.ch/veranstaltung/84760
SUMMARY:Silvester Gottesdienst mit Anstossen vor/in der Kirche
PRIORITY:5
X-MICROSOFT-CDO-IMPORTANCE:1
CLASS:PUBLIC
END:VEVENT
END:VCALENDAR
