BEGIN:VCALENDAR
PRODID:-//kirchenweb.ch gmbh//veranstaltungsausgabe v2.0//DE
VERSION:2.0
METHOD:PUBLISH
BEGIN:VEVENT
DTSTART:20261206T160000Z
DTEND:20261206T170000Z
LOCATION:Ref. Kirche Büren a.A.\, Hauptgasse 63\, 3294 Büren an der Aare
TRANSP:OPAQUE
SEQUENCE:0
UID:84765-veranstaltung@kirchenregion-aarberg.ch
DTSTAMP:20260423T072727Z
DESCRIPTION:Kontakt: Pfr. Jan Tschannen\, T. 032 351 19 70\n\nWeitere
  Infos: https://www.kirchenregion-aarberg.ch/veranstaltung/84765
SUMMARY:Feier zum 2. Advent mit Musikschule
PRIORITY:5
X-MICROSOFT-CDO-IMPORTANCE:1
CLASS:PUBLIC
END:VEVENT
END:VCALENDAR
