BEGIN:VCALENDAR
PRODID:-//kirchenweb.ch gmbh//veranstaltungsausgabe v2.0//DE
VERSION:2.0
METHOD:PUBLISH
BEGIN:VEVENT
DTSTART:20260920T083000Z
DTEND:20260920T110000Z
LOCATION:Ref. Kirche Büren a.A.\, Hauptgasse 63\, 3294 Büren an der Aare
TRANSP:OPAQUE
SEQUENCE:0
UID:84771-veranstaltung@kirchenregion-aarberg.ch
DTSTAMP:20251028T134838Z
DESCRIPTION:Kontakt: Apérogruppe/Andrea Schaller\n\nWeitere Infos:
  https://www.kirchenregion-aarberg.ch/veranstaltung/84771
SUMMARY:Apéro nach Gottesdienst vor oder in der Kirche
PRIORITY:5
X-MICROSOFT-CDO-IMPORTANCE:1
CLASS:PUBLIC
END:VEVENT
END:VCALENDAR
