BEGIN:VCALENDAR
PRODID:-//kirchenweb.ch gmbh//veranstaltungsausgabe v2.0//DE
VERSION:2.0
METHOD:PUBLISH
BEGIN:VEVENT
DTSTART:20261223T180000Z
DTEND:20261223T190000Z
LOCATION:Mehrzweckhaus Büetigen\, Dorfstrasse\, 3264 Diessbach
TRANSP:OPAQUE
SEQUENCE:0
UID:84794-veranstaltung@kirchenregion-aarberg.ch
DTSTAMP:20251104T092718Z
DESCRIPTION:Kontakt: team.bueren@kirche-bueren.ch\n\nWeitere Infos:
  https://www.kirchenregion-aarberg.ch/veranstaltung/84794
SUMMARY:Regionale\, ökumenische Taizé-Feier mit Friedenslicht
PRIORITY:5
X-MICROSOFT-CDO-IMPORTANCE:1
CLASS:PUBLIC
END:VEVENT
END:VCALENDAR
