BEGIN:VCALENDAR
PRODID:-//kirchenweb.ch gmbh//veranstaltungsausgabe v2.0//DE
VERSION:2.0
METHOD:PUBLISH
BEGIN:VEVENT
DTSTART:20261222T150000Z
DTEND:20261222T160000Z
LOCATION:AareResidenz Büren a.A.\, Lindenweg 15\, 3294 Büren an der Aare
TRANSP:OPAQUE
SEQUENCE:0
UID:84795-veranstaltung@kirchenregion-aarberg.ch
DTSTAMP:20251218T082517Z
DESCRIPTION:Kontakt: Pfrn. Petra Burri\, T. 032 351 35 62\n\nWeitere
  Infos: https://www.kirchenregion-aarberg.ch/veranstaltung/84795
SUMMARY:Ökumenischer Weihnachtsgottesdienst in der Aareresidenz
PRIORITY:5
X-MICROSOFT-CDO-IMPORTANCE:1
CLASS:PUBLIC
END:VEVENT
END:VCALENDAR
