BEGIN:VCALENDAR
PRODID:-//kirchenweb.ch gmbh//veranstaltungsausgabe v2.0//DE
VERSION:2.0
METHOD:PUBLISH
BEGIN:VEVENT
DTSTART:20261009T130000Z
DTEND:20261009T140000Z
LOCATION:Aareresidenz\, Lindenweg 15\, 3294 Büren an der Aare
TRANSP:OPAQUE
SEQUENCE:0
UID:86180-veranstaltung@kirchenregion-aarberg.ch
DTSTAMP:20251218T082409Z
DESCRIPTION:Kontakt: Pfrn. Petra Burri\nTel. 032 351 35 62\n\nWeitere
  Infos: https://www.kirchenregion-aarberg.ch/veranstaltung/86180
SUMMARY:Öffentlicher Gottesdienst in der Aareresidenz
PRIORITY:5
X-MICROSOFT-CDO-IMPORTANCE:1
CLASS:PUBLIC
END:VEVENT
END:VCALENDAR
