BEGIN:VCALENDAR
PRODID:-//kirchenweb.ch gmbh//veranstaltungsausgabe v2.0//DE
VERSION:2.0
METHOD:PUBLISH
BEGIN:VEVENT
DTSTART:20260612T170000Z
DTEND:20260612T180000Z
LOCATION:Ref. Kirche Büren a.A.\, Hauptgasse 63\, 3294 Büren an der Aare
TRANSP:OPAQUE
SEQUENCE:0
UID:87117-veranstaltung@kirchenregion-aarberg.ch
DTSTAMP:20260203T073307Z
DESCRIPTION:Junge Talente: «Singers’ Night» mit Kinderchor Cantolino\,
  Leitung: Rebecca Zimmermann und SingSong Projektchor\, Leitung: Mirjam
  Grünig\n\nIn Zusammenarbeit mit der Musikschule Region Lengnau-Büren
  a.A. und der Musikschule Bucheggberg präsentieren wir zwei Perlen der
  jugendlichen Gesangskunst unserer Region!\nDer Kinderchor Cantolino
  (Leitung: Rebecca Zimmermann) ist Teil der Singschulung der Musikschule
  Region Lengnau- Büren a.A.\nKinder ab dem 2. Kindergartenjahr bis zur 5.
  Klasse proben einmal wöchentlich in versch. Altersgruppen und treten 3-4
  pro Jahr konzertant auf. \n\nDer SingSong Projektchor (Leitung: Mirjam
  Grünig) setzt sich aus der Gesangsklasse von Mirjam Grünig zusammen und
  setzt ihre Schwerpunkt bei modernen Pop-Liedern\, hier zu hören im
  Ensemble und als solistische Darbietungen.\n\n\nKontakt: Sally Jo
  Rüedi\, Organistin / Musikkoordination Musica in Ecclesia\, T. 079 288
  72 69\n\nWeitere Infos:
  https://www.kirchenregion-aarberg.ch/veranstaltung/87117
SUMMARY:Musica in Ecclesia - Junge Talente "Singers' Night"
PRIORITY:5
X-MICROSOFT-CDO-IMPORTANCE:1
CLASS:PUBLIC
END:VEVENT
END:VCALENDAR
