BEGIN:VCALENDAR
PRODID:-//kirchenweb.ch gmbh//veranstaltungsausgabe v2.0//DE
VERSION:2.0
METHOD:PUBLISH
BEGIN:VEVENT
DTSTART:20260904T173000Z
DTEND:20260904T183000Z
LOCATION:Ref. Kirche Oberwil\, Im Dorf\, 3298 Oberwil
TRANSP:OPAQUE
SEQUENCE:0
UID:87118-veranstaltung@kirchenregion-aarberg.ch
DTSTAMP:20260203T073348Z
DESCRIPTION:« Take Three » feat. Titilayo Adedokun (Gesang)\nDaniel
  Woodtli (Trompete\, Flügelhorn)\, Sally Jo Rüedi (Orgel)\, Tobias
  Rüedi (Perkussion)\n\nHinreissend oder nachdenklich\, groovig oder
  gewagt\, tauchen Sie in die vielfältigen Klangwelten von Take Three ein!
  Die drei Musiker:innen lassen ihre Zuhörer von den schwebenden Klängen
  ihrer stimmungsvollen Kompositionen berühren und von Musik aus Jazz\,
  Klassik\, Weltmusik und Pop ergreifen. Das Trio freut sich auf einer
  einzigartigen Zusammenarbeit mit einer international tätigen Sängerin\,
  Amerikanerin Titilayo Adedokun\, seit vielen Jahren in Deutschland
  ansässig. Sie ist eine vielseitige Sängerin mit umfassender Erfahrung
  in einer verblüffend breiten Palette musikalischer Genres\, darunter
  Klassik\, Broadway-Musicals\, Spirituals\, Jazz und Blues. 
 \nwww.sallyjoruedi.ch/take-three  www.titilayoadedokun.com\n\n\nKontakt:
  Sally Jo Rüedi\, Organistin / Musikkoordination Musica in Ecclesia\, T.
  079 288 72 69\n\nWeitere Infos:
  https://www.kirchenregion-aarberg.ch/veranstaltung/87118
SUMMARY:Musica in Ecclesia - "Take Three" feat. Titilayo Adedokun (Gesang)
PRIORITY:5
X-MICROSOFT-CDO-IMPORTANCE:1
CLASS:PUBLIC
END:VEVENT
END:VCALENDAR
