BEGIN:VCALENDAR
PRODID:-//kirchenweb.ch gmbh//veranstaltungsausgabe v2.0//DE
VERSION:2.0
METHOD:PUBLISH
BEGIN:VEVENT
DTSTART:20261122T093000Z
DTEND:20261122T120000Z
LOCATION:Kirchgemeindehaus\, Bernstrasse 7a\, 3294 Büren an der Aare
TRANSP:OPAQUE
SEQUENCE:0
UID:87237-veranstaltung@kirchenregion-aarberg.ch
DTSTAMP:20251106T080137Z
DESCRIPTION:Kontakt: Apérogruppe/Andrea Schaller\n\nWeitere Infos:
  https://www.kirchenregion-aarberg.ch/veranstaltung/87237
SUMMARY:Kirchenkaffee nach Gottesdienst
PRIORITY:5
X-MICROSOFT-CDO-IMPORTANCE:1
CLASS:PUBLIC
END:VEVENT
END:VCALENDAR
