BEGIN:VCALENDAR
PRODID:-//kirchenweb.ch gmbh//veranstaltungsausgabe v2.0//DE
VERSION:2.0
METHOD:PUBLISH
BEGIN:VEVENT
DTSTART:20261224T210000Z
DTEND:20261224T220000Z
LOCATION:Ref. Kirche Rüti\, Solothurnstrasse\, 3295 Rüti
TRANSP:OPAQUE
SEQUENCE:0
UID:90771-veranstaltung@kirchenregion-aarberg.ch
DTSTAMP:20260224T115952Z
DESCRIPTION:Kontakt: Pfrn. Sarah Sommer\, T. 032 552 05 51\n\nWeitere
  Infos: https://www.kirchenregion-aarberg.ch/veranstaltung/90771
SUMMARY:Christnacht-Gottesdienst
PRIORITY:5
X-MICROSOFT-CDO-IMPORTANCE:1
CLASS:PUBLIC
END:VEVENT
END:VCALENDAR
