BEGIN:VCALENDAR
PRODID:-//kirchenweb.ch gmbh//veranstaltungsausgabe v2.0//DE
VERSION:2.0
METHOD:PUBLISH
BEGIN:VEVENT
DTSTART:20260910T173000Z
DTEND:20260910T193000Z
LOCATION:Ref. Kirche Büren a.A.\, Hauptgasse 63\, 3294 Büren an der Aare
TRANSP:OPAQUE
SEQUENCE:0
UID:90787-veranstaltung@kirchenregion-aarberg.ch
DTSTAMP:20260224T130841Z
DESCRIPTION:Der ökumenische Kirchenchor probt wöchentlich und alle
  Interessierten sind herzlich eingeladen auch dabei zu sein. Wir freuen
  uns auf neue Sänger und Sängerinnen!\nAuskünfte: Erika Dürr\, 079 286
  87 23\n\nKontakt: Barbara Clénin\nT. 032 385 33 53\n\n\nWeitere Infos:
  https://www.kirchenregion-aarberg.ch/veranstaltung/90787
SUMMARY:Probe des ökumenischen Kirchenchors "SingIn Büren"
PRIORITY:5
X-MICROSOFT-CDO-IMPORTANCE:1
CLASS:PUBLIC
END:VEVENT
END:VCALENDAR
