BEGIN:VCALENDAR
PRODID:-//kirchenweb.ch gmbh//veranstaltungsausgabe v2.0//DE
VERSION:2.0
METHOD:PUBLISH
BEGIN:VEVENT
DTSTART:20260816T073000Z
DTEND:20260816T083000Z
LOCATION:Kath. Pfarreizentrum Büren a.A.\, Solothurnstrasse 40\, 3294
  Büren an der Aare
TRANSP:OPAQUE
SEQUENCE:0
UID:90789-veranstaltung@kirchenregion-aarberg.ch
DTSTAMP:20260224T132245Z
DESCRIPTION:Kontakt: Barbara Clénin\, 079 704 62 67\n\nWeitere Infos:
  https://www.kirchenregion-aarberg.ch/veranstaltung/90789
SUMMARY:SingIn Büren singt am Gottesdienst zum Kräutersonntag
PRIORITY:5
X-MICROSOFT-CDO-IMPORTANCE:1
CLASS:PUBLIC
END:VEVENT
END:VCALENDAR
