BEGIN:VCALENDAR
PRODID:-//kirchenweb.ch gmbh//veranstaltungsausgabe v2.0//DE
VERSION:2.0
METHOD:PUBLISH
BEGIN:VEVENT
DTSTART:20260906T073000Z
DTEND:20260906T083000Z
LOCATION:Katholische Kirche Lyss\, \,
TRANSP:OPAQUE
SEQUENCE:0
UID:90790-veranstaltung@kirchenregion-aarberg.ch
DTSTAMP:20260224T132716Z
DESCRIPTION:Kontakt: Barbara Clénin\, Tel. 032 385 33 53\n\nWeitere
  Infos: https://www.kirchenregion-aarberg.ch/veranstaltung/90790
SUMMARY:SingIn Büren singt am Patrozinium in Lyss
PRIORITY:5
X-MICROSOFT-CDO-IMPORTANCE:1
CLASS:PUBLIC
END:VEVENT
END:VCALENDAR
