BEGIN:VCALENDAR
PRODID:-//kirchenweb.ch gmbh//veranstaltungsausgabe v2.0//DE
VERSION:2.0
METHOD:PUBLISH
BEGIN:VEVENT
DTSTART:20261122T083000Z
DTEND:20261122T093000Z
LOCATION:Kath. Pfarreizentrum Büren a.A.\, Solothurnstrasse 40\, 3294
  Büren an der Aare
TRANSP:OPAQUE
SEQUENCE:0
UID:90791-veranstaltung@kirchenregion-aarberg.ch
DTSTAMP:20260224T132636Z
DESCRIPTION:Kontakt: Barbara Clénin\, Tel. 032 385 33 53\n\nWeitere
  Infos: https://www.kirchenregion-aarberg.ch/veranstaltung/90791
SUMMARY:SingIn singt am Patrozinium in Büren
PRIORITY:5
X-MICROSOFT-CDO-IMPORTANCE:1
CLASS:PUBLIC
END:VEVENT
END:VCALENDAR
