BEGIN:VCALENDAR
PRODID:-//kirchenweb.ch gmbh//veranstaltungsausgabe v2.0//DE
VERSION:2.0
METHOD:PUBLISH
BEGIN:VEVENT
DTSTART:20260613T113000Z
DTEND:20260613T150000Z
LOCATION:Kirchgemeindehaus Büren a.A.\, Bernstrasse 7a\, 3294 Büren an
  der Aare
TRANSP:OPAQUE
SEQUENCE:0
UID:91094-veranstaltung@kirchenregion-aarberg.ch
DTSTAMP:20260317T165040Z
DESCRIPTION:ca. 1 Woche vor diesem Termin sollte Entscheid für definitive
  Reservation gefällt sein.\nAnfragen sind eher auf andere Termine zu
  verweisen\, damit die Option bestehen bleiben kann.\n\nKontakt: Kündig
  Sonja und Dändliker Beat\nAarbergstrasse 4a\n3294 Büren a.A.\nM. 078
  841 67 70\n\n\nWeitere Infos:
  https://www.kirchenregion-aarberg.ch/veranstaltung/91094
SUMMARY:Apéro nach Trauung Dändliker-Kündig (bei schlechtem Wetter)
PRIORITY:5
X-MICROSOFT-CDO-IMPORTANCE:1
CLASS:PUBLIC
END:VEVENT
END:VCALENDAR
