BEGIN:VCALENDAR
PRODID:-//kirchenweb.ch gmbh//veranstaltungsausgabe v2.0//DE
VERSION:2.0
METHOD:PUBLISH
BEGIN:VEVENT
DTSTART:20261120T183000Z
DTEND:20261120T193000Z
LOCATION:Kirchgemeindehaus\, Bernstrasse 7a\, 3294 Büren an der Aare
TRANSP:OPAQUE
SEQUENCE:0
UID:91198-veranstaltung@kirchenregion-aarberg.ch
DTSTAMP:20260325T071359Z
DESCRIPTION:Kontakt: Christoph Kuhn\, 032 351 23 93\n\nWeitere Infos:
  https://www.kirchenregion-aarberg.ch/veranstaltung/91198
SUMMARY:Kino im Kirchgemeindehaus
PRIORITY:5
X-MICROSOFT-CDO-IMPORTANCE:1
CLASS:PUBLIC
END:VEVENT
END:VCALENDAR
